BEGIN:VCALENDAR
VERSION:2.0
PRODID:gruene-kiefersfelden.de
METHOD:PUBLISH
BEGIN:VTIMEZONE
TZID:Europe/Berlin
X-LIC-LOCATION:Europe/Berlin
BEGIN:DAYLIGHT
TZOFFSETFROM:+0100
TZOFFSETTO:+0200
TZNAME:CEST
DTSTART:19700329T020000
RRULE:FREQ=YEARLY;INTERVAL=1;BYDAY=-1SU;BYMONTH=3
END:DAYLIGHT
BEGIN:STANDARD
TZOFFSETFROM:+0200
TZOFFSETTO:+0100
TZNAME:CET
DTSTART:19701025T030000
RRULE:FREQ=YEARLY;INTERVAL=1;BYDAY=-1SU;BYMONTH=10
END:STANDARD
END:VTIMEZONE
BEGIN:VEVENT
UID:a900d830c9b6bcbb0d80d2ef4de5faaf@gruene-kiefersfelden.de
URL;VALUE=URI:https://gruene-kiefersfelden.de/termine/sitzung-gemeinderat
 -11/
LOCATION:Schulturnhalle Mesnerweg, 83088 Kiefersfelden
SUMMARY:Sitzung Gemeinderat
DESCRIPTION;ALTREP="data:text/html,":
CLASS:PUBLIC
DTSTART;TZID=Europe/Berlin:20211117T190000
DTEND;TZID=Europe/Berlin:20211117T210000
DTSTAMP:20260424T093819
END:VEVENT
END:VCALENDAR